BEGIN:VCALENDAR
VERSION:2.0
PRODID:-//Tukios.com/
BEGIN:VEVENT
UID:808802d5-d235-4dfa-9c9d-6b01823c4628@www.hennesseysfuneralhome.com
DTSTAMP:20260422T204555Z
DTSTART:20260501T170000Z
DTEND:20260501T200000Z
SUMMARY:Visitation
DESCRIPTION:
URL:https://www.hennesseysfuneralhome.com/obituaries/john-kamp
LOCATION: 78 2nd St.  Deposit NY 13754
GEO:42.0608062;-75.4284229
END:VEVENT
END:VCALENDAR