BEGIN:VCALENDAR
VERSION:2.0
PRODID:-//Tukios.com/
BEGIN:VEVENT
UID:66561522-cfe7-4ba3-8844-7359d2503d8d@www.hennesseysfuneralhome.com
DTSTAMP:20260422T204252Z
DTSTART:20260501T200000Z
DTEND:20260501T210000Z
SUMMARY:Memorial Service
DESCRIPTION:
URL:https://www.hennesseysfuneralhome.com/obituaries/john-kamp
LOCATION: 78 2nd St.  Deposit NY 13754
GEO:42.0608062;-75.4284229
END:VEVENT
END:VCALENDAR